BEGIN:VCALENDAR
VERSION:2.0
PRODID:-//saintmichaels.us//eCatholic//EN
X-WR-TIMEZONE:LocalTZ
BEGIN:VTIMEZONE
TZID:LocalTZ
X-LIC-LOCATION:LocalTZ
BEGIN:DAYLIGHT
TZOFFSETFROM:-0500
TZOFFSETTO:-0400
TZNAME:LocalTZ
DTSTART:19700308T020000
RRULE:FREQ=YEARLY;BYMONTH=3;BYDAY=2SU
END:DAYLIGHT
BEGIN:STANDARD
TZOFFSETFROM:-0400
TZOFFSETTO:-0500
TZNAME:LocalTZ
DTSTART:19701101T020000
RRULE:FREQ=YEARLY;BYMONTH=11;BYDAY=1SU
END:STANDARD
END:VTIMEZONE
BEGIN:VEVENT
UID:1331419@saintmichaels.us
DTSTAMP:20260421T141145Z
DTSTART:20260423T120000
DTEND:20260423T123000
RRULE:FREQ=WEEKLY;BYDAY=TH
EXDATE:20200409T120000,20201126T120000,20240328T120000,20250109T120000,202
 50417T120000
SUMMARY:Mass @ St. Mary's
END:VEVENT
BEGIN:VEVENT
UID:1509681@saintmichaels.us
DTSTAMP:20260421T141145Z
DTSTART:20260506T190000
DTEND:20260506T200000
RRULE:FREQ=MONTHLY;BYDAY=WE;BYSETPOS=1
EXDATE:20231101T190000
SUMMARY:Knights of Columbus Council #9909 Meeting
DESCRIPTION:The Knights of Columbus Council #9909 meets on the first Tuesd
 ay of every month at St. Michael's in the Family Center.
END:VEVENT
BEGIN:VEVENT
UID:1509688@saintmichaels.us
DTSTAMP:20260421T141145Z
DTSTART:20260421T090000
DTEND:20260421T100000
RRULE:FREQ=WEEKLY;BYDAY=TU
EXDATE:20211102T090000,20221101T090000,20240326T090000,20250415T090000,202
 50415T090000
SUMMARY:Mass @ St. Mary's
END:VEVENT
BEGIN:VEVENT
UID:1509690@saintmichaels.us
DTSTAMP:20260421T141145Z
DTSTART:20260422T123000
DTEND:20260422T133000
RRULE:FREQ=WEEKLY;BYDAY=WE
EXDATE:20230308T123000,20230419T123000,20230531T123000,20230607T123000,202
 30920T123000,20230927T123000,20231004T123000,20231101T123000,20240110T1230
 00,20240117T123000,20240117T123000,20240124T123000,20240214T123000,2024021
 4T123000,20240306T123000,20240327T123000,20240925T123000,20241225T123000,2
 0250101T123000,20250101T123000,20250108T123000,20250219T123000,20250305T12
 3000,20250319T123000,20250416T123000,20250514T123000,20251231T123000
SUMMARY:Confession @ St. Michael's
DESCRIPTION:Or by appointment (please call the parish office)
END:VEVENT
BEGIN:VEVENT
UID:1509691@saintmichaels.us
DTSTAMP:20260421T141145Z
DTSTART:20260421T093000
DTEND:20260421T140000
RRULE:FREQ=WEEKLY;BYDAY=TU
EXDATE:20211102T093000,20221101T093000,20240326T093000,20250415T093000
SUMMARY:Eucharistic Adoration @ St. Mary's
END:VEVENT
BEGIN:VEVENT
UID:1509693@saintmichaels.us
DTSTAMP:20260421T141145Z
DTSTART:20260422T123000
DTEND:20260422T153000
RRULE:FREQ=WEEKLY;BYDAY=WE
EXDATE:20221102T123000,20230308T123000,20230419T123000,20230531T123000,202
 30607T123000,20230920T123000,20230927T123000,20231004T123000,20231101T1230
 00,20240110T123000,20240117T123000,20240214T123000,20240306T123000,2024032
 7T123000,20240925T123000,20241225T123000,20241225T123000,20250101T123000,2
 0250108T123000,20250219T123000,20250305T123000,20250319T123000,20250416T12
 3000,20250514T123000,20251231T123000
SUMMARY:Eucharistic Adoration @ St. Michael's
END:VEVENT
BEGIN:VEVENT
UID:1509699@saintmichaels.us
DTSTAMP:20260421T141145Z
DTSTART:20260425T160000
DTEND:20260425T170000
RRULE:FREQ=WEEKLY;BYDAY=SA
EXDATE:20240330T160000,20250419T160000
SUMMARY:Vigil Mass @ St. Michael's
END:VEVENT
BEGIN:VEVENT
UID:1705715@saintmichaels.us
DTSTAMP:20260421T141145Z
DTSTART:20260426T083000
DTEND:20260426T093000
RRULE:FREQ=WEEKLY;BYDAY=SU
EXDATE:20240331T083000
SUMMARY:Mass @ St. Michael's
END:VEVENT
BEGIN:VEVENT
UID:1705716@saintmichaels.us
DTSTAMP:20260421T141145Z
DTSTART:20260426T103000
DTEND:20260426T113000
RRULE:FREQ=WEEKLY;BYDAY=SU
SUMMARY:Mass @ St. Mary's
END:VEVENT
BEGIN:VEVENT
UID:2215215@saintmichaels.us
DTSTAMP:20260421T141145Z
DTSTART:20260422T120000
DTEND:20260422T123000
RRULE:FREQ=WEEKLY;BYDAY=WE
EXDATE:20230927T120000,20231004T120000,20240110T120000,20240110T120000,202
 40117T120000,20240306T120000,20240327T120000,20240925T120000,20241225T1200
 00,20250108T120000,20250219T120000,20250319T120000,20250416T120000,2025051
 4T120000,20251231T120000,20251231T120000
SUMMARY:Mass @ St. Michael's
END:VEVENT
BEGIN:VEVENT
UID:2215223@saintmichaels.us
DTSTAMP:20260421T141145Z
DTSTART:20260424T120000
DTEND:20260424T123000
RRULE:FREQ=WEEKLY;BYDAY=FR
EXDATE:20230929T120000,20231229T120000,20240112T120000,20240119T120000,202
 40329T120000,20240927T120000,20241004T120000,20241227T120000,20250103T1200
 00,20250110T120000,20250214T120000,20250418T120000,20260102T120000
SUMMARY:Mass @ St. Michael's
END:VEVENT
BEGIN:VEVENT
UID:2581731@saintmichaels.us
DTSTAMP:20260421T141145Z
DTSTART:20260425T160000
DTEND:20260425T170000
RRULE:FREQ=WEEKLY;BYDAY=SA
EXDATE:20250419T160000
SUMMARY:Mass @ St. Michael's
END:VEVENT
BEGIN:VEVENT
UID:2581796@saintmichaels.us
DTSTAMP:20260421T141145Z
DTSTART:20260425T150000
DTEND:20260425T154500
RRULE:FREQ=WEEKLY;BYDAY=SA
EXDATE:20250419T150000
SUMMARY:Confession @ St. Michael's
DESCRIPTION:Or by appointment (please call the parish office)
END:VEVENT
BEGIN:VEVENT
UID:2626494@saintmichaels.us
DTSTAMP:20260421T141145Z
DTSTART:20260424T123000
DTEND:20260424T133000
RRULE:FREQ=WEEKLY;BYDAY=FR
EXDATE:20241227T123000,20250103T123000,20250110T123000,20250214T123000,202
 50418T123000,20260102T123000
SUMMARY:Confession @ St. Michael's
DESCRIPTION:or by appointment (please call the parish office)
END:VEVENT
END:VCALENDAR
